BEGIN:VCALENDAR
VERSION:2.0
PRODID:-//Bicycle Colorado - ECPv6.15.20//NONSGML v1.0//EN
CALSCALE:GREGORIAN
METHOD:PUBLISH
X-WR-CALNAME:Bicycle Colorado
X-ORIGINAL-URL:https://bicyclecolorado.org
X-WR-CALDESC:Events for Bicycle Colorado
REFRESH-INTERVAL;VALUE=DURATION:PT1H
X-Robots-Tag:noindex
X-PUBLISHED-TTL:PT1H
BEGIN:VTIMEZONE
TZID:America/Denver
BEGIN:DAYLIGHT
TZOFFSETFROM:-0700
TZOFFSETTO:-0600
TZNAME:MDT
DTSTART:20250309T090000
END:DAYLIGHT
BEGIN:STANDARD
TZOFFSETFROM:-0600
TZOFFSETTO:-0700
TZNAME:MST
DTSTART:20251102T080000
END:STANDARD
BEGIN:DAYLIGHT
TZOFFSETFROM:-0700
TZOFFSETTO:-0600
TZNAME:MDT
DTSTART:20260308T090000
END:DAYLIGHT
BEGIN:STANDARD
TZOFFSETFROM:-0600
TZOFFSETTO:-0700
TZNAME:MST
DTSTART:20261101T080000
END:STANDARD
BEGIN:DAYLIGHT
TZOFFSETFROM:-0700
TZOFFSETTO:-0600
TZNAME:MDT
DTSTART:20270314T090000
END:DAYLIGHT
BEGIN:STANDARD
TZOFFSETFROM:-0600
TZOFFSETTO:-0700
TZNAME:MST
DTSTART:20271107T080000
END:STANDARD
END:VTIMEZONE
BEGIN:VEVENT
DTSTART;TZID=America/Denver:20260421T070000
DTEND;TZID=America/Denver:20260421T083000
DTSTAMP:20260422T015247
CREATED:20260414T213526Z
LAST-MODIFIED:20260417T210905Z
UID:10001124-1776754800-1776760200@bicyclecolorado.org
SUMMARY:Rally for America’s Bike Lane - Colorado
DESCRIPTION:On April 21\, 2026\, people across Colorado (and America) will ride in solidarity with the League of American Bicyclists\, the Washington Area Bicyclist Association (WABA)\, the people of Washington\, DC\, and with every community across America\, fighting to protect common-sense investments in safe streets. \nThe 15th Street protected bike lane in DC is more than a local issue. It’s America’s bike lane built with public investment\, proven to save lives\, and now under threat of unilateral removal by the federal government without any public process. If it can happen there\, it can happen anywhere. \nJoin a national day of action. Ride your local streets. Show your community. Show Congress. Bike lanes save lives. We’re here to keep speaking up for safer streets for everyone. \nThis is an opportunity to get on your bike where you live. Ride your local bike lane\, greenway\, or street. It doesn’t need to be long; even a short neighborhood loop counts. Invite as many people as you can\, including business leaders and elected officials. \nRead our press release to learn why this issue matters to us. \nTake Action: \n\nRide Where You Live & Post To Social (Example Caption):\nOn April 21st\, I’m riding for America’s bike lanes. DC’s 15th Street protected bike lane has cut bike injuries by 91%\, and the federal government wants to tear it out without any public process. If it can happen there\, it can happen in Colorado. Ride local. Stand national. Sign the petition: https://bikeleague.org/action-center #AmericasBikeLane #ColoradosBikeLane @bikeleague @wabadc @bicyclecolorado\nFind Other Rides with the Rally to Save America’s Bike Lane Map\nSign the petition: https://bikeleague.org/action-center\nIf you are available Tuesday morning\, join Bicycle Colorado staff for a short\, community ride starting and ending at the Wash Park Boathouse in Denver on the morning of April 21st. We’ll gather at the boathouse at 7:00 AM and depart at 7:30 AM. We’ll take a slow ride down the Marion Street protected bike lane with stops to say a few words commemorating Alexis Bounds and all those lost to preventable traffic violence. We’ll also be crossing Alameda Avenue\, where previously planned safety improvements have been challenged and delayed by the City of Denver. We’ll return to Wash Park by 8:30 AM. The ride will be approximately three flat miles.\nUse our Action Center to send a message to your Colorado legislators to tell them you’re riding on April 21st. Use our prepopulated message or write your own.\n\nDenver Rally Ride Details: \nMeeting time: 7 AM\nRide start time: 7:30 AM\nEnd time: 8:30 AM\nMeeting Location: Wash Park Boathouse
URL:https://bicyclecolorado.org/event/rally-for-americas-bike-lane-colorado/
LOCATION:Wash Park Boathouse\, 701 S Franklin St\, Denver\, 80209\, United States
CATEGORIES:Community, Outreach, Advocacy & Festivals
ATTACH;FMTTYPE=image/png:https://bicyclecolorado.org/wp-content/uploads/2026/04/Colorado-Version-Save-Americas-Bike-Lanes.png
ORGANIZER;CN="Bicycle Colorado":MAILTO:info@bicyclecolorado.org
END:VEVENT
BEGIN:VEVENT
DTSTART;TZID=America/Denver:20260421T080000
DTEND;TZID=America/Denver:20260421T113000
DTSTAMP:20260422T015247
CREATED:20260323T202659Z
LAST-MODIFIED:20260323T204038Z
UID:10001097-1776758400-1776771000@bicyclecolorado.org
SUMMARY:The Road Ahead 2026: The Future of Urban Mobility
DESCRIPTION:The Road Ahead 2026: The Future of Urban Mobility \nJoin us for Transportation Solutions’ 21st annual seminar featuring a buffet breakfast\, presentations\, and a panel discussion during Earth Week. This year’s dynamic\, half‑day event dives into the future of Denver’s transportation landscape with internationally renowned mobility expert David Zipper\, Senior Fellow at the MIT Mobility Initiative. Known for his sharp insights at the intersection of policy\, technology\, and urban life\, David brings experience from city halls\, venture capital\, and top publications like Vox and Bloomberg CityLab. \nAlongside his keynote\, enjoy inspiration from leading Denver voices\, two community leader awards\, and an engaging panel exploring innovative strategies to move people more efficiently in a growing urban city. \nThis is a must‑attend event for anyone passionate about shaping Denver’s transportation future. Whether you’re a curious Denverite eager to grasp the future of transportation or a business seeking to make a meaningful impact on our community\, this event offers everyone a chance to learn\, engage\, and sponsor the growth of accessible mobility options in Denver. \nThe Road Ahead attracts over 150 attendees\, including local and regional officials\, state and federal government elected representatives\, public and private sector participants\, developers\, business leaders\, and neighbors and residents. \nPlease read more about the program and purchase tickets for $20 or pay-what-you-can here: https://theroadahead2026.eventbrite.com
URL:https://bicyclecolorado.org/event/the-road-ahead/
LOCATION:Community Commons\, University of Denver
CATEGORIES:Community, Outreach, Advocacy & Festivals
ATTACH;FMTTYPE=image/png:https://bicyclecolorado.org/wp-content/uploads/2026/03/Social-media.png
END:VEVENT
END:VCALENDAR