BEGIN:VCALENDAR
VERSION:2.0
PRODID:-//Bicycle Colorado - ECPv6.15.20//NONSGML v1.0//EN
CALSCALE:GREGORIAN
METHOD:PUBLISH
X-ORIGINAL-URL:https://bicyclecolorado.org
X-WR-CALDESC:Events for Bicycle Colorado
REFRESH-INTERVAL;VALUE=DURATION:PT1H
X-Robots-Tag:noindex
X-PUBLISHED-TTL:PT1H
BEGIN:VTIMEZONE
TZID:America/Denver
BEGIN:DAYLIGHT
TZOFFSETFROM:-0700
TZOFFSETTO:-0600
TZNAME:MDT
DTSTART:20250309T090000
END:DAYLIGHT
BEGIN:STANDARD
TZOFFSETFROM:-0600
TZOFFSETTO:-0700
TZNAME:MST
DTSTART:20251102T080000
END:STANDARD
BEGIN:DAYLIGHT
TZOFFSETFROM:-0700
TZOFFSETTO:-0600
TZNAME:MDT
DTSTART:20260308T090000
END:DAYLIGHT
BEGIN:STANDARD
TZOFFSETFROM:-0600
TZOFFSETTO:-0700
TZNAME:MST
DTSTART:20261101T080000
END:STANDARD
BEGIN:DAYLIGHT
TZOFFSETFROM:-0700
TZOFFSETTO:-0600
TZNAME:MDT
DTSTART:20270314T090000
END:DAYLIGHT
BEGIN:STANDARD
TZOFFSETFROM:-0600
TZOFFSETTO:-0700
TZNAME:MST
DTSTART:20271107T080000
END:STANDARD
END:VTIMEZONE
BEGIN:VEVENT
DTSTART;VALUE=DATE:20260425
DTEND;VALUE=DATE:20260426
DTSTAMP:20260425T183111
CREATED:20260331T155707Z
LAST-MODIFIED:20260331T155707Z
UID:10001103-1777075200-1777161599@bicyclecolorado.org
SUMMARY:Desert Gravel
DESCRIPTION:Gravel adventure like no other on Earth. \nFormerly called Co2uT – now called Desert Gravel and part of the TransRockies Race Series! \nWelcome to Desert  Gravel—the wild ride where gravel meets dinosaur spirit and wide‑open desert fun. We’ve unearthed spectacular terrain right along the Colorado/Utah border\, and on April  25\,  2026\, you’ll be part of the pack. Whether you’re coming to race or just to ride\, you’ll feel the flow of every gritty descent\, chunky stretch\, and soul-checking gravel pitch the course throws at you. As always\, our longtime crew (now teamed up with TransRockies) delivers the grit. Kevin  Kane\, local veteran race director\, is onboard to help make sure the experience is dialed. \nWith five distances\, there is a route for everyone!  \nView Event Website
URL:https://bicyclecolorado.org/event/desert-gravel/
LOCATION:Fruita\, CO\, Fruita\, CO
CATEGORIES:Gravel,Races
ATTACH;FMTTYPE=image/png:https://bicyclecolorado.org/wp-content/uploads/2026/03/Screenshot-2026-03-31-at-9.55.42-AM.png
END:VEVENT
BEGIN:VEVENT
DTSTART;TZID=America/Denver:20260425T080000
DTEND;TZID=America/Denver:20260425T170000
DTSTAMP:20260425T183111
CREATED:20260115T155657Z
LAST-MODIFIED:20260415T175710Z
UID:10000031-1777104000-1777136400@bicyclecolorado.org
SUMMARY:CU Criterium
DESCRIPTION:CU will be hosting the 2026 CU Criterium at the CU East Campus. Please see the attached flyer for more details. \nCU Criterium Flyer
URL:https://bicyclecolorado.org/event/cu-criterium/
LOCATION:Boulder\, CO
CATEGORIES:Races,Road
END:VEVENT
BEGIN:VEVENT
DTSTART;TZID=America/Denver:20260425T080000
DTEND;TZID=America/Denver:20260425T170000
DTSTAMP:20260425T183111
CREATED:20260226T170330Z
LAST-MODIFIED:20260226T170330Z
UID:10000826-1777104000-1777136400@bicyclecolorado.org
SUMMARY:Salida Enduro
DESCRIPTION:The Salida Enduro Series is back for 2026!\nJoin us for a month of racing in Salida\, Colorado\, featuring a packed schedule for racers of all levels. From weekday events to adrenaline-pumping weekend races\, we have everything you need for an action-packed April. Don’t wait\, sign up now and let’s hit the trail together!
URL:https://bicyclecolorado.org/event/salida-enduro/
LOCATION:Salida\, CO\, Salida\, United States
CATEGORIES:Mountain,Races
END:VEVENT
END:VCALENDAR