BEGIN:VCALENDAR
VERSION:2.0
PRODID:-//Bicycle Colorado - ECPv6.15.20//NONSGML v1.0//EN
CALSCALE:GREGORIAN
METHOD:PUBLISH
X-WR-CALNAME:Bicycle Colorado
X-ORIGINAL-URL:https://bicyclecolorado.org
X-WR-CALDESC:Events for Bicycle Colorado
REFRESH-INTERVAL;VALUE=DURATION:PT1H
X-Robots-Tag:noindex
X-PUBLISHED-TTL:PT1H
BEGIN:VTIMEZONE
TZID:America/Denver
BEGIN:DAYLIGHT
TZOFFSETFROM:-0700
TZOFFSETTO:-0600
TZNAME:MDT
DTSTART:20250309T090000
END:DAYLIGHT
BEGIN:STANDARD
TZOFFSETFROM:-0600
TZOFFSETTO:-0700
TZNAME:MST
DTSTART:20251102T080000
END:STANDARD
BEGIN:DAYLIGHT
TZOFFSETFROM:-0700
TZOFFSETTO:-0600
TZNAME:MDT
DTSTART:20260308T090000
END:DAYLIGHT
BEGIN:STANDARD
TZOFFSETFROM:-0600
TZOFFSETTO:-0700
TZNAME:MST
DTSTART:20261101T080000
END:STANDARD
BEGIN:DAYLIGHT
TZOFFSETFROM:-0700
TZOFFSETTO:-0600
TZNAME:MDT
DTSTART:20270314T090000
END:DAYLIGHT
BEGIN:STANDARD
TZOFFSETFROM:-0600
TZOFFSETTO:-0700
TZNAME:MST
DTSTART:20271107T080000
END:STANDARD
END:VTIMEZONE
BEGIN:VEVENT
DTSTART;TZID=America/Denver:20260614T100000
DTEND;TZID=America/Denver:20260614T120000
DTSTAMP:20260423T055127
CREATED:20260421T164620Z
LAST-MODIFIED:20260421T164620Z
UID:10001142-1781431200-1781438400@bicyclecolorado.org
SUMMARY:Youth Learn to Ride - Highlands Ranch
DESCRIPTION:You Can Do It! \nHas your child been struggling to learn to ride a bike? Our effective gliding technique has most students riding within two hours! \nREGISTER HERE \nLocation and Time \nClass is held in a coned-off portion of Mike’s Bikes Highlands Ranch location parking lot at 2030 E County Line Rd. Class runs for two hours. \nAdditional Details \nThe lesson will be held rain or shine\, so please be sure to dress for the weather. We suggest wearing comfortable\, active clothing with layers and close-toed shoes. Please bring your own water and sunscreen. Restrooms available inside Mike’s Bikes. \nDon’t hesitate to reach out if you have any questions between now and class time. Please contact our Education Manager Benedict Wright at benedict@bicyclecolorado.org or 720-504-3871. \nWe’re looking forward to getting you riding on two wheels very soon! \nRefund Policy \nPlease contact us at least 48 hours prior to the cancelled lesson in order for us to refund your full payment. If a cancellation is made within 48 hours of the lesson\, we will reimburse half the cost and rescheduling will require an additional tuition payment. We hate to leave any spots empty as our lessons fill up and we need enough time to find another student to take your place. Thanks for your understanding!
URL:https://bicyclecolorado.org/event/youth-learn-to-ride-highlands-ranch3/
CATEGORIES:Classes and Clinics
ATTACH;FMTTYPE=image/jpeg:https://bicyclecolorado.org/wp-content/uploads/2026/04/LearnToRideYouth2025-WebsiteEventImage.jpg
ORGANIZER;CN="Bicycle Colorado Education Team":MAILTO:bikeschool@bicyclecolorado.org
END:VEVENT
END:VCALENDAR