BEGIN:VCALENDAR
VERSION:2.0
PRODID:-//Bicycle Colorado - ECPv6.15.20//NONSGML v1.0//EN
CALSCALE:GREGORIAN
METHOD:PUBLISH
X-ORIGINAL-URL:https://bicyclecolorado.org
X-WR-CALDESC:Events for Bicycle Colorado
REFRESH-INTERVAL;VALUE=DURATION:PT1H
X-Robots-Tag:noindex
X-PUBLISHED-TTL:PT1H
BEGIN:VTIMEZONE
TZID:America/Denver
BEGIN:DAYLIGHT
TZOFFSETFROM:-0700
TZOFFSETTO:-0600
TZNAME:MDT
DTSTART:20250309T090000
END:DAYLIGHT
BEGIN:STANDARD
TZOFFSETFROM:-0600
TZOFFSETTO:-0700
TZNAME:MST
DTSTART:20251102T080000
END:STANDARD
BEGIN:DAYLIGHT
TZOFFSETFROM:-0700
TZOFFSETTO:-0600
TZNAME:MDT
DTSTART:20260308T090000
END:DAYLIGHT
BEGIN:STANDARD
TZOFFSETFROM:-0600
TZOFFSETTO:-0700
TZNAME:MST
DTSTART:20261101T080000
END:STANDARD
BEGIN:DAYLIGHT
TZOFFSETFROM:-0700
TZOFFSETTO:-0600
TZNAME:MDT
DTSTART:20270314T090000
END:DAYLIGHT
BEGIN:STANDARD
TZOFFSETFROM:-0600
TZOFFSETTO:-0700
TZNAME:MST
DTSTART:20271107T080000
END:STANDARD
END:VTIMEZONE
BEGIN:VEVENT
DTSTART;VALUE=DATE:20260711
DTEND;VALUE=DATE:20260712
DTSTAMP:20260425T044324
CREATED:20251229T215210Z
LAST-MODIFIED:20251229T222326Z
UID:10000013-1783728000-1783814399@bicyclecolorado.org
SUMMARY:Triple Bypass
DESCRIPTION:The Triple – 118 miles\, 10\,800’\n\n\n\n\n\n\n\n\nJoin a cycling legend through the heart of Colorado—118 miles across three iconic Colorado mountain passes. Since 1988\, the Triple has earned its bucket-list status by offering both demanding climbs and breathtaking alpine descents. \nThe classic Triple is a bucket-list event across the nation\, and for good reason. Leaving from Evergreen\, CO\, and traveling over Juniper\, Loveland\, and Vail Pass. \nAll riders receive a limited-edition jersey or t-shirt\, full support\, a large medal\, four aid stations\, and a finish party featuring food and beer. \nThe Double – 80 miles\, 6\,500’\nNot quite ready for the full Triple? Try the 80-mile Double. Still a heck of a day on the bike. \nAt 8 am\, law enforcement will lead all Double riders on the approximately 2-mile distance from Empire to the merge with the Triple Bypass course and continue over Loveland and Vail Passes for a challenging ride into Avon. Not quite ready for the full Triple? This one is for you. It’s still not easy\, but worth every mile. \nAll riders receive a limited-edition jersey or t-shirt\, full support\, a large medal\, four aid stations\, and a finish party featuring food and beer. \n\nBoth courses feature fully stocked aid stations\, premium support\, and car-free mountain passes. They’ve got everything covered! \n\nRegister Here \nView Event Website
URL:https://bicyclecolorado.org/event/triple-bypass/
LOCATION:Evergreen\, CO\, Evergreen\, United States
CATEGORIES:Road
ATTACH;FMTTYPE=image/webp:https://bicyclecolorado.org/wp-content/uploads/2025/12/EventTiles_Triple.webp
ORGANIZER;CN="SHIFT Events":MAILTO:info@shiftevents.org
END:VEVENT
END:VCALENDAR