BEGIN:VCALENDAR
VERSION:2.0
PRODID:-//Bicycle Colorado - ECPv6.15.20//NONSGML v1.0//EN
CALSCALE:GREGORIAN
METHOD:PUBLISH
X-ORIGINAL-URL:https://bicyclecolorado.org
X-WR-CALDESC:Events for Bicycle Colorado
REFRESH-INTERVAL;VALUE=DURATION:PT1H
X-Robots-Tag:noindex
X-PUBLISHED-TTL:PT1H
BEGIN:VTIMEZONE
TZID:America/Denver
BEGIN:DAYLIGHT
TZOFFSETFROM:-0700
TZOFFSETTO:-0600
TZNAME:MDT
DTSTART:20250309T090000
END:DAYLIGHT
BEGIN:STANDARD
TZOFFSETFROM:-0600
TZOFFSETTO:-0700
TZNAME:MST
DTSTART:20251102T080000
END:STANDARD
BEGIN:DAYLIGHT
TZOFFSETFROM:-0700
TZOFFSETTO:-0600
TZNAME:MDT
DTSTART:20260308T090000
END:DAYLIGHT
BEGIN:STANDARD
TZOFFSETFROM:-0600
TZOFFSETTO:-0700
TZNAME:MST
DTSTART:20261101T080000
END:STANDARD
BEGIN:DAYLIGHT
TZOFFSETFROM:-0700
TZOFFSETTO:-0600
TZNAME:MDT
DTSTART:20270314T090000
END:DAYLIGHT
BEGIN:STANDARD
TZOFFSETFROM:-0600
TZOFFSETTO:-0700
TZNAME:MST
DTSTART:20271107T080000
END:STANDARD
END:VTIMEZONE
BEGIN:VEVENT
DTSTART;VALUE=DATE:20260201
DTEND;VALUE=DATE:20260202
DTSTAMP:20260422T210235
CREATED:20251220T142303Z
LAST-MODIFIED:20260114T200343Z
UID:10000012-1769904000-1769990399@bicyclecolorado.org
SUMMARY:Old Man Winter Bike Rally & Run
DESCRIPTION:Old Man Winter Bike Rally & Run is a must-do Colorado endurance festival with mixed terrain adventures for all levels of riders and runners. \nTheir 23 mile\, 40 mile\, and 75 bike courses include some of Boulder County’s best gravel and paved roads. The legendary 75 mile course adds in canyons and snowy single track.  \nRunning courses include a 5K\, 10K\, or half marathon tour of Lyons\, CO. The scenic 10K can be combined with the 40 mile bike course for a wintry multi-sport challenge. All participants are supported with well-stocked aid stations\, a hot meal\, cold beer\, and great winter swag! \nThe running and riding community comes together for a big after party with live music\, bonfires\, hot food\, cold beers\, s’mores\, and a huge expo.
URL:https://bicyclecolorado.org/event/old-man-winter-bike-rally-run/
LOCATION:Lyons\, CO\, Lyons\, United States
CATEGORIES:Gravel
END:VEVENT
END:VCALENDAR