BEGIN:VCALENDAR
VERSION:2.0
PRODID:-//Bicycle Colorado - ECPv6.15.20//NONSGML v1.0//EN
CALSCALE:GREGORIAN
METHOD:PUBLISH
X-ORIGINAL-URL:https://bicyclecolorado.org
X-WR-CALDESC:Events for Bicycle Colorado
REFRESH-INTERVAL;VALUE=DURATION:PT1H
X-Robots-Tag:noindex
X-PUBLISHED-TTL:PT1H
BEGIN:VTIMEZONE
TZID:America/Denver
BEGIN:DAYLIGHT
TZOFFSETFROM:-0700
TZOFFSETTO:-0600
TZNAME:MDT
DTSTART:20250309T090000
END:DAYLIGHT
BEGIN:STANDARD
TZOFFSETFROM:-0600
TZOFFSETTO:-0700
TZNAME:MST
DTSTART:20251102T080000
END:STANDARD
BEGIN:DAYLIGHT
TZOFFSETFROM:-0700
TZOFFSETTO:-0600
TZNAME:MDT
DTSTART:20260308T090000
END:DAYLIGHT
BEGIN:STANDARD
TZOFFSETFROM:-0600
TZOFFSETTO:-0700
TZNAME:MST
DTSTART:20261101T080000
END:STANDARD
BEGIN:DAYLIGHT
TZOFFSETFROM:-0700
TZOFFSETTO:-0600
TZNAME:MDT
DTSTART:20270314T090000
END:DAYLIGHT
BEGIN:STANDARD
TZOFFSETFROM:-0600
TZOFFSETTO:-0700
TZNAME:MST
DTSTART:20271107T080000
END:STANDARD
END:VTIMEZONE
BEGIN:VEVENT
DTSTART;TZID=America/Denver:20260426T100000
DTEND;TZID=America/Denver:20260426T150000
DTSTAMP:20260422T094103
CREATED:20260126T231231Z
LAST-MODIFIED:20260126T231231Z
UID:10000268-1777197600-1777215600@bicyclecolorado.org
SUMMARY:FoCo Fondo Training Ride p/b Castelli
DESCRIPTION:Join FoCo Fondo Monthly Training Rides- come on out to meet and ride with new people! The ride departs from New Belgium Brewing at 10 am. Please fill out the waiver to attend. We’ll stick around afterwards for a beer and food truck lunch. A free Fat Tire is available! \nTwo routes each month\, with a “lanterne rouge” bringing up the rear on the shorter route. \nGrab full details and routes – https://www.focofondo.com/training-rides-events \nComplete the ride and be sure to tag us on Instagram (@focofondo) and join our Strava Club for a chance to win prizes!
URL:https://bicyclecolorado.org/event/foco-fondo-training-ride-p-b-castelli/2026-04-26/
LOCATION:New Belgium Brewing\, 500 Linden St.\, Fort Collins\, 80524\, United States
CATEGORIES:Gravel,Group Rides
ATTACH;FMTTYPE=image/webp:https://bicyclecolorado.org/wp-content/uploads/2026/01/FoCo-Fondo-Tyler-Phillips-980-scaled.webp
ORGANIZER;CN="FoCo Fondo":MAILTO:focofondo@gmail.com
END:VEVENT
BEGIN:VEVENT
DTSTART;TZID=America/Denver:20260512T160000
DTEND;TZID=America/Denver:20260512T200000
DTSTAMP:20260422T094103
CREATED:20260420T162449Z
LAST-MODIFIED:20260420T162645Z
UID:10001148-1778601600-1778616000@bicyclecolorado.org
SUMMARY:Spring Dirt Pile Short Track at New Belgium Brewing
DESCRIPTION:SPRING DIRT PILE SHORT TRACK MOUNTAIN BIKE RACE SERIES\nSIX RACES: MAY 12\, 19\, 26 JUNE 2\, 9\, 16\nOnline registration ONLY (opens Wed. for the following week)\nHOSTED BY: SendTown Bike Club\, a local 501(c)(3) nonprofit\, and our Community Partners\, courtesy of New Belgium Brewing in Fort Collins.\nWe’re stoked to welcome you and your family to some fun evenings of racing! With strider through adult categories\, there’s no other event like this Tuesday night tradition in Northern Colorado.\nFun courses for all are on tap\, along with a food truck\, beer garden\, volunteer opportunities\, end of series prizes from our Partners\, and more!\nThe races are also our largest fundraiser\, supporting our mission: Cultivating a lifelong passion for cycling through adventure and community. Please consider an additional donation! \nSee the website to subscribe to our email newsletter\, view the FAQ\, and more details.
URL:https://bicyclecolorado.org/event/spring-dirt-pile-short-track-at-new-belgium-brewing/2026-05-12/
LOCATION:New Belgium Brewing\, 500 Linden St.\, Fort Collins\, 80524\, United States
CATEGORIES:Mountain
ATTACH;FMTTYPE=image/png:https://bicyclecolorado.org/wp-content/uploads/2026/04/Spring-2026-Dirt-Pile-Race-Flyer-v3.png
ORGANIZER;CN="Send Town Bike Club":MAILTO:races@sendtown.org
END:VEVENT
BEGIN:VEVENT
DTSTART;TZID=America/Denver:20260517T090000
DTEND;TZID=America/Denver:20260517T140000
DTSTAMP:20260422T094103
CREATED:20260126T231231Z
LAST-MODIFIED:20260126T231231Z
UID:10000269-1779008400-1779026400@bicyclecolorado.org
SUMMARY:FoCo Fondo Training Ride p/b Castelli
DESCRIPTION:Join FoCo Fondo Monthly Training Rides- come on out to meet and ride with new people! The ride departs from New Belgium Brewing at 10 am. Please fill out the waiver to attend. We’ll stick around afterwards for a beer and food truck lunch. A free Fat Tire is available! \nTwo routes each month\, with a “lanterne rouge” bringing up the rear on the shorter route. \nGrab full details and routes – https://www.focofondo.com/training-rides-events \nComplete the ride and be sure to tag us on Instagram (@focofondo) and join our Strava Club for a chance to win prizes!
URL:https://bicyclecolorado.org/event/foco-fondo-training-ride-p-b-castelli/2026-05-17/
LOCATION:New Belgium Brewing\, 500 Linden St.\, Fort Collins\, 80524\, United States
CATEGORIES:Gravel,Group Rides
ATTACH;FMTTYPE=image/webp:https://bicyclecolorado.org/wp-content/uploads/2026/01/FoCo-Fondo-Tyler-Phillips-980-scaled.webp
ORGANIZER;CN="FoCo Fondo":MAILTO:focofondo@gmail.com
END:VEVENT
BEGIN:VEVENT
DTSTART;TZID=America/Denver:20260519T160000
DTEND;TZID=America/Denver:20260519T200000
DTSTAMP:20260422T094103
CREATED:20260420T162449Z
LAST-MODIFIED:20260420T162645Z
UID:10001149-1779206400-1779220800@bicyclecolorado.org
SUMMARY:Spring Dirt Pile Short Track at New Belgium Brewing
DESCRIPTION:SPRING DIRT PILE SHORT TRACK MOUNTAIN BIKE RACE SERIES\nSIX RACES: MAY 12\, 19\, 26 JUNE 2\, 9\, 16\nOnline registration ONLY (opens Wed. for the following week)\nHOSTED BY: SendTown Bike Club\, a local 501(c)(3) nonprofit\, and our Community Partners\, courtesy of New Belgium Brewing in Fort Collins.\nWe’re stoked to welcome you and your family to some fun evenings of racing! With strider through adult categories\, there’s no other event like this Tuesday night tradition in Northern Colorado.\nFun courses for all are on tap\, along with a food truck\, beer garden\, volunteer opportunities\, end of series prizes from our Partners\, and more!\nThe races are also our largest fundraiser\, supporting our mission: Cultivating a lifelong passion for cycling through adventure and community. Please consider an additional donation! \nSee the website to subscribe to our email newsletter\, view the FAQ\, and more details.
URL:https://bicyclecolorado.org/event/spring-dirt-pile-short-track-at-new-belgium-brewing/2026-05-19/
LOCATION:New Belgium Brewing\, 500 Linden St.\, Fort Collins\, 80524\, United States
CATEGORIES:Mountain
ATTACH;FMTTYPE=image/png:https://bicyclecolorado.org/wp-content/uploads/2026/04/Spring-2026-Dirt-Pile-Race-Flyer-v3.png
ORGANIZER;CN="Send Town Bike Club":MAILTO:races@sendtown.org
END:VEVENT
BEGIN:VEVENT
DTSTART;TZID=America/Denver:20260523T090000
DTEND;TZID=America/Denver:20260524T140000
DTSTAMP:20260422T094103
CREATED:20260127T182641Z
LAST-MODIFIED:20260127T182641Z
UID:10000750-1779526800-1779631200@bicyclecolorado.org
SUMMARY:Friends of FoCo Fondo x Fort Follies Women’s Weekend
DESCRIPTION:Join the Fort Follies and FoCo Fondo for the fourth year of the women’s gravel clinic led by some of our amazing NoCo gravel pros. This year\, we’re excited to continue the women’s weekend\, pairing the clinic on Saturday with a Sunday women’s training ride (no registration required) to fill your weekend with bikes and rad women! \nLearn more here: https://www.friendsoffocofondo.com/events/womens-weekend-2026
URL:https://bicyclecolorado.org/event/friends-of-foco-fondo-x-fort-follies-womens-weekend/
LOCATION:New Belgium Brewing\, 500 Linden St.\, Fort Collins\, 80524\, United States
CATEGORIES:Classes and Clinics,Gravel,Group Rides
ATTACH;FMTTYPE=image/webp:https://bicyclecolorado.org/wp-content/uploads/2026/01/MachmerMedia_FortFolliesClinic-9-scaled.webp
ORGANIZER;CN="Friends of FoCo Fondo":MAILTO:friendsoffocofondo@gmail.com
END:VEVENT
BEGIN:VEVENT
DTSTART;TZID=America/Denver:20260526T160000
DTEND;TZID=America/Denver:20260526T200000
DTSTAMP:20260422T094103
CREATED:20260420T162449Z
LAST-MODIFIED:20260420T162645Z
UID:10001150-1779811200-1779825600@bicyclecolorado.org
SUMMARY:Spring Dirt Pile Short Track at New Belgium Brewing
DESCRIPTION:SPRING DIRT PILE SHORT TRACK MOUNTAIN BIKE RACE SERIES\nSIX RACES: MAY 12\, 19\, 26 JUNE 2\, 9\, 16\nOnline registration ONLY (opens Wed. for the following week)\nHOSTED BY: SendTown Bike Club\, a local 501(c)(3) nonprofit\, and our Community Partners\, courtesy of New Belgium Brewing in Fort Collins.\nWe’re stoked to welcome you and your family to some fun evenings of racing! With strider through adult categories\, there’s no other event like this Tuesday night tradition in Northern Colorado.\nFun courses for all are on tap\, along with a food truck\, beer garden\, volunteer opportunities\, end of series prizes from our Partners\, and more!\nThe races are also our largest fundraiser\, supporting our mission: Cultivating a lifelong passion for cycling through adventure and community. Please consider an additional donation! \nSee the website to subscribe to our email newsletter\, view the FAQ\, and more details.
URL:https://bicyclecolorado.org/event/spring-dirt-pile-short-track-at-new-belgium-brewing/2026-05-26/
LOCATION:New Belgium Brewing\, 500 Linden St.\, Fort Collins\, 80524\, United States
CATEGORIES:Mountain
ATTACH;FMTTYPE=image/png:https://bicyclecolorado.org/wp-content/uploads/2026/04/Spring-2026-Dirt-Pile-Race-Flyer-v3.png
ORGANIZER;CN="Send Town Bike Club":MAILTO:races@sendtown.org
END:VEVENT
BEGIN:VEVENT
DTSTART;TZID=America/Denver:20260602T160000
DTEND;TZID=America/Denver:20260602T200000
DTSTAMP:20260422T094103
CREATED:20260420T162449Z
LAST-MODIFIED:20260420T162645Z
UID:10001151-1780416000-1780430400@bicyclecolorado.org
SUMMARY:Spring Dirt Pile Short Track at New Belgium Brewing
DESCRIPTION:SPRING DIRT PILE SHORT TRACK MOUNTAIN BIKE RACE SERIES\nSIX RACES: MAY 12\, 19\, 26 JUNE 2\, 9\, 16\nOnline registration ONLY (opens Wed. for the following week)\nHOSTED BY: SendTown Bike Club\, a local 501(c)(3) nonprofit\, and our Community Partners\, courtesy of New Belgium Brewing in Fort Collins.\nWe’re stoked to welcome you and your family to some fun evenings of racing! With strider through adult categories\, there’s no other event like this Tuesday night tradition in Northern Colorado.\nFun courses for all are on tap\, along with a food truck\, beer garden\, volunteer opportunities\, end of series prizes from our Partners\, and more!\nThe races are also our largest fundraiser\, supporting our mission: Cultivating a lifelong passion for cycling through adventure and community. Please consider an additional donation! \nSee the website to subscribe to our email newsletter\, view the FAQ\, and more details.
URL:https://bicyclecolorado.org/event/spring-dirt-pile-short-track-at-new-belgium-brewing/2026-06-02/
LOCATION:New Belgium Brewing\, 500 Linden St.\, Fort Collins\, 80524\, United States
CATEGORIES:Mountain
ATTACH;FMTTYPE=image/png:https://bicyclecolorado.org/wp-content/uploads/2026/04/Spring-2026-Dirt-Pile-Race-Flyer-v3.png
ORGANIZER;CN="Send Town Bike Club":MAILTO:races@sendtown.org
END:VEVENT
BEGIN:VEVENT
DTSTART;TZID=America/Denver:20260606T090000
DTEND;TZID=America/Denver:20260606T130000
DTSTAMP:20260422T094103
CREATED:20260129T171344Z
LAST-MODIFIED:20260129T171344Z
UID:10000751-1780736400-1780750800@bicyclecolorado.org
SUMMARY:Beginner's Clinic p/b Source Endurance
DESCRIPTION:Friends of FoCo Fondo is hosting Year 3 of the Beginner’s Clinic\, partnered up with Source Endurance! Designed for the gravel curious\, this low-stress clinic will cover some gravel basic skills\, as well as equipment and maintenance basics. Only 35 spots are available. \nLearn more about the event and how to register here: https://www.friendsoffocofondo.com/events/beginners-clinic-2026
URL:https://bicyclecolorado.org/event/beginners-clinic-p-b-source-endurance/
LOCATION:New Belgium Brewing\, 500 Linden St.\, Fort Collins\, 80524\, United States
CATEGORIES:Classes and Clinics,Gravel
ATTACH;FMTTYPE=image/webp:https://bicyclecolorado.org/wp-content/uploads/2026/01/MachmerMedia_FondoClinic-66.webp
ORGANIZER;CN="Friends of FoCo Fondo":MAILTO:friendsoffocofondo@gmail.com
END:VEVENT
BEGIN:VEVENT
DTSTART;TZID=America/Denver:20260607T090000
DTEND;TZID=America/Denver:20260607T140000
DTSTAMP:20260422T094103
CREATED:20260126T231231Z
LAST-MODIFIED:20260126T231231Z
UID:10000270-1780822800-1780840800@bicyclecolorado.org
SUMMARY:FoCo Fondo Training Ride p/b Castelli
DESCRIPTION:Join FoCo Fondo Monthly Training Rides- come on out to meet and ride with new people! The ride departs from New Belgium Brewing at 10 am. Please fill out the waiver to attend. We’ll stick around afterwards for a beer and food truck lunch. A free Fat Tire is available! \nTwo routes each month\, with a “lanterne rouge” bringing up the rear on the shorter route. \nGrab full details and routes – https://www.focofondo.com/training-rides-events \nComplete the ride and be sure to tag us on Instagram (@focofondo) and join our Strava Club for a chance to win prizes!
URL:https://bicyclecolorado.org/event/foco-fondo-training-ride-p-b-castelli/2026-06-07/
LOCATION:New Belgium Brewing\, 500 Linden St.\, Fort Collins\, 80524\, United States
CATEGORIES:Gravel,Group Rides
ATTACH;FMTTYPE=image/webp:https://bicyclecolorado.org/wp-content/uploads/2026/01/FoCo-Fondo-Tyler-Phillips-980-scaled.webp
ORGANIZER;CN="FoCo Fondo":MAILTO:focofondo@gmail.com
END:VEVENT
BEGIN:VEVENT
DTSTART;TZID=America/Denver:20260609T160000
DTEND;TZID=America/Denver:20260609T200000
DTSTAMP:20260422T094103
CREATED:20260420T162449Z
LAST-MODIFIED:20260420T162645Z
UID:10001152-1781020800-1781035200@bicyclecolorado.org
SUMMARY:Spring Dirt Pile Short Track at New Belgium Brewing
DESCRIPTION:SPRING DIRT PILE SHORT TRACK MOUNTAIN BIKE RACE SERIES\nSIX RACES: MAY 12\, 19\, 26 JUNE 2\, 9\, 16\nOnline registration ONLY (opens Wed. for the following week)\nHOSTED BY: SendTown Bike Club\, a local 501(c)(3) nonprofit\, and our Community Partners\, courtesy of New Belgium Brewing in Fort Collins.\nWe’re stoked to welcome you and your family to some fun evenings of racing! With strider through adult categories\, there’s no other event like this Tuesday night tradition in Northern Colorado.\nFun courses for all are on tap\, along with a food truck\, beer garden\, volunteer opportunities\, end of series prizes from our Partners\, and more!\nThe races are also our largest fundraiser\, supporting our mission: Cultivating a lifelong passion for cycling through adventure and community. Please consider an additional donation! \nSee the website to subscribe to our email newsletter\, view the FAQ\, and more details.
URL:https://bicyclecolorado.org/event/spring-dirt-pile-short-track-at-new-belgium-brewing/2026-06-09/
LOCATION:New Belgium Brewing\, 500 Linden St.\, Fort Collins\, 80524\, United States
CATEGORIES:Mountain
ATTACH;FMTTYPE=image/png:https://bicyclecolorado.org/wp-content/uploads/2026/04/Spring-2026-Dirt-Pile-Race-Flyer-v3.png
ORGANIZER;CN="Send Town Bike Club":MAILTO:races@sendtown.org
END:VEVENT
BEGIN:VEVENT
DTSTART;TZID=America/Denver:20260616T160000
DTEND;TZID=America/Denver:20260616T200000
DTSTAMP:20260422T094103
CREATED:20260420T162449Z
LAST-MODIFIED:20260420T162645Z
UID:10001153-1781625600-1781640000@bicyclecolorado.org
SUMMARY:Spring Dirt Pile Short Track at New Belgium Brewing
DESCRIPTION:SPRING DIRT PILE SHORT TRACK MOUNTAIN BIKE RACE SERIES\nSIX RACES: MAY 12\, 19\, 26 JUNE 2\, 9\, 16\nOnline registration ONLY (opens Wed. for the following week)\nHOSTED BY: SendTown Bike Club\, a local 501(c)(3) nonprofit\, and our Community Partners\, courtesy of New Belgium Brewing in Fort Collins.\nWe’re stoked to welcome you and your family to some fun evenings of racing! With strider through adult categories\, there’s no other event like this Tuesday night tradition in Northern Colorado.\nFun courses for all are on tap\, along with a food truck\, beer garden\, volunteer opportunities\, end of series prizes from our Partners\, and more!\nThe races are also our largest fundraiser\, supporting our mission: Cultivating a lifelong passion for cycling through adventure and community. Please consider an additional donation! \nSee the website to subscribe to our email newsletter\, view the FAQ\, and more details.
URL:https://bicyclecolorado.org/event/spring-dirt-pile-short-track-at-new-belgium-brewing/2026-06-16/
LOCATION:New Belgium Brewing\, 500 Linden St.\, Fort Collins\, 80524\, United States
CATEGORIES:Mountain
ATTACH;FMTTYPE=image/png:https://bicyclecolorado.org/wp-content/uploads/2026/04/Spring-2026-Dirt-Pile-Race-Flyer-v3.png
ORGANIZER;CN="Send Town Bike Club":MAILTO:races@sendtown.org
END:VEVENT
BEGIN:VEVENT
DTSTART;VALUE=DATE:20260718
DTEND;VALUE=DATE:20260720
DTSTAMP:20260422T094103
CREATED:20260106T163825Z
LAST-MODIFIED:20260331T163504Z
UID:10000025-1784332800-1784505599@bicyclecolorado.org
SUMMARY:FoCo Fondo
DESCRIPTION:A gravel ride\, a gravel race\, rooted in the insanity of a fondo with the levity of the Fort Collins community. Whether you’re into racing bikes or all-day bike parties in the open range of Colorado\, FoCo Fondo is your adventure. \nSaturday\, July 18th\n\n12-mile Here for It p/b Safe Routes to School Ride at 10 am\nMorning & Late Morning Shakeout Rides\nFull outdoor and lifestyle expo\nAfternoon costumed-relay\nExclusive brewery tours\n\nSunday\, July 19th\n\n32-mile\, 60-mile\, 100-mile\, & 118-mile routes\nExpo & finish festival\n\nView Event Website
URL:https://bicyclecolorado.org/event/foco-fondo/
LOCATION:New Belgium Brewing\, 500 Linden St.\, Fort Collins\, 80524\, United States
CATEGORIES:Gravel
ATTACH;FMTTYPE=image/webp:https://bicyclecolorado.org/wp-content/uploads/2026/01/FoCoFondo-TylerPhillips-1001.webp
END:VEVENT
END:VCALENDAR