BEGIN:VCALENDAR
VERSION:2.0
PRODID:-//Bicycle Colorado - ECPv6.15.20//NONSGML v1.0//EN
CALSCALE:GREGORIAN
METHOD:PUBLISH
X-ORIGINAL-URL:https://bicyclecolorado.org
X-WR-CALDESC:Events for Bicycle Colorado
REFRESH-INTERVAL;VALUE=DURATION:PT1H
X-Robots-Tag:noindex
X-PUBLISHED-TTL:PT1H
BEGIN:VTIMEZONE
TZID:America/Denver
BEGIN:DAYLIGHT
TZOFFSETFROM:-0700
TZOFFSETTO:-0600
TZNAME:MDT
DTSTART:20250309T090000
END:DAYLIGHT
BEGIN:STANDARD
TZOFFSETFROM:-0600
TZOFFSETTO:-0700
TZNAME:MST
DTSTART:20251102T080000
END:STANDARD
BEGIN:DAYLIGHT
TZOFFSETFROM:-0700
TZOFFSETTO:-0600
TZNAME:MDT
DTSTART:20260308T090000
END:DAYLIGHT
BEGIN:STANDARD
TZOFFSETFROM:-0600
TZOFFSETTO:-0700
TZNAME:MST
DTSTART:20261101T080000
END:STANDARD
BEGIN:DAYLIGHT
TZOFFSETFROM:-0700
TZOFFSETTO:-0600
TZNAME:MDT
DTSTART:20270314T090000
END:DAYLIGHT
BEGIN:STANDARD
TZOFFSETFROM:-0600
TZOFFSETTO:-0700
TZNAME:MST
DTSTART:20271107T080000
END:STANDARD
END:VTIMEZONE
BEGIN:VEVENT
DTSTART;TZID=America/Denver:20260426T110000
DTEND;TZID=America/Denver:20260426T150000
DTSTAMP:20260424T163318
CREATED:20260424T180627Z
LAST-MODIFIED:20260424T180627Z
UID:10001213-1777201200-1777215600@bicyclecolorado.org
SUMMARY:Bikes Together's Park Hill Bike Day!
DESCRIPTION:Grab your bike and your bestie. We’d love to see you\, please join us for:\n– Refurb Bike + Tool Sale!\n– Free Bike Tune Pop-Up Station\n– Bike Donation Drop-Off \nSunday 4/26 is Park Hill Bike Days!\n11am-3pm\n2825 Fairfax St (Former Bike Depot location)
URL:https://bicyclecolorado.org/event/bikes-togethers-park-hill-bike-day/
LOCATION:Park Hill\, 2825 Fairfax St.\, Denver\, Colorado
CATEGORIES:Community, Outreach, Advocacy & Festivals
ATTACH;FMTTYPE=image/png:https://bicyclecolorado.org/wp-content/uploads/2026/04/Screenshot-2026-04-22-at-12.05.05-PM.png
ORGANIZER;CN="Bikes Together":MAILTO:info@bikestogether.org
END:VEVENT
END:VCALENDAR