BEGIN:VCALENDAR
VERSION:2.0
PRODID:-//Bicycle Colorado - ECPv6.15.20//NONSGML v1.0//EN
CALSCALE:GREGORIAN
METHOD:PUBLISH
X-ORIGINAL-URL:https://bicyclecolorado.org
X-WR-CALDESC:Events for Bicycle Colorado
REFRESH-INTERVAL;VALUE=DURATION:PT1H
X-Robots-Tag:noindex
X-PUBLISHED-TTL:PT1H
BEGIN:VTIMEZONE
TZID:America/Denver
BEGIN:DAYLIGHT
TZOFFSETFROM:-0700
TZOFFSETTO:-0600
TZNAME:MDT
DTSTART:20250309T090000
END:DAYLIGHT
BEGIN:STANDARD
TZOFFSETFROM:-0600
TZOFFSETTO:-0700
TZNAME:MST
DTSTART:20251102T080000
END:STANDARD
BEGIN:DAYLIGHT
TZOFFSETFROM:-0700
TZOFFSETTO:-0600
TZNAME:MDT
DTSTART:20260308T090000
END:DAYLIGHT
BEGIN:STANDARD
TZOFFSETFROM:-0600
TZOFFSETTO:-0700
TZNAME:MST
DTSTART:20261101T080000
END:STANDARD
BEGIN:DAYLIGHT
TZOFFSETFROM:-0700
TZOFFSETTO:-0600
TZNAME:MDT
DTSTART:20270314T090000
END:DAYLIGHT
BEGIN:STANDARD
TZOFFSETFROM:-0600
TZOFFSETTO:-0700
TZNAME:MST
DTSTART:20271107T080000
END:STANDARD
END:VTIMEZONE
BEGIN:VEVENT
DTSTART;TZID=America/Denver:20260425T080000
DTEND;TZID=America/Denver:20260425T170000
DTSTAMP:20260424T064329
CREATED:20260226T170330Z
LAST-MODIFIED:20260226T170330Z
UID:10000826-1777104000-1777136400@bicyclecolorado.org
SUMMARY:Salida Enduro
DESCRIPTION:The Salida Enduro Series is back for 2026!\nJoin us for a month of racing in Salida\, Colorado\, featuring a packed schedule for racers of all levels. From weekday events to adrenaline-pumping weekend races\, we have everything you need for an action-packed April. Don’t wait\, sign up now and let’s hit the trail together!
URL:https://bicyclecolorado.org/event/salida-enduro/
LOCATION:Salida\, CO\, Salida\, United States
CATEGORIES:Mountain,Races
END:VEVENT
BEGIN:VEVENT
DTSTART;VALUE=DATE:20260919
DTEND;VALUE=DATE:20260920
DTSTAMP:20260424T064329
CREATED:20251229T221346Z
LAST-MODIFIED:20251229T222200Z
UID:10000015-1789776000-1789862399@bicyclecolorado.org
SUMMARY:Salida 76
DESCRIPTION:Seventy-six miles or 76k of gorgeous Colorado backcountry roads that will remind you why you love gravel in the first place. \nThe Salida76 is a far-out gravel adventure for all the explorers out there. We base our camp in the laid-back City of Salida and offer a spectacular weekend of two-wheeled\, self-propelled frivolity. It’s September at its finest. \nIt’s a race\, a ride\, and a helluva good time. Let’s chill out and ride bikes. \nView Event Website
URL:https://bicyclecolorado.org/event/salida-76/
LOCATION:Salida\, CO\, Salida\, United States
CATEGORIES:Gravel
ATTACH;FMTTYPE=image/webp:https://bicyclecolorado.org/wp-content/uploads/2025/12/EventTiles_Salida76.webp
ORGANIZER;CN="SHIFT Events":MAILTO:info@shiftevents.org
END:VEVENT
BEGIN:VEVENT
DTSTART;VALUE=DATE:20260920
DTEND;VALUE=DATE:20260921
DTSTAMP:20260424T064329
CREATED:20251229T222044Z
LAST-MODIFIED:20251229T222044Z
UID:10000016-1789862400-1789948799@bicyclecolorado.org
SUMMARY:The Banana Belt
DESCRIPTION:The Banana Belt mountain bike ride is forty miles of zippy singletrack in Salida\, Colorado\, and part of the Salida Bike Fest! \nVisit Event Website
URL:https://bicyclecolorado.org/event/the-banana-belt/
LOCATION:Salida\, CO\, Salida\, United States
CATEGORIES:Mountain
ATTACH;FMTTYPE=image/webp:https://bicyclecolorado.org/wp-content/uploads/2025/12/BananaBeltSE1200x800px.webp
ORGANIZER;CN="SHIFT Events":MAILTO:info@shiftevents.org
END:VEVENT
END:VCALENDAR